BEGIN:VCALENDAR
VERSION:2.0
PRODID:-//pretix//Pretix_DV_Freiburg//
BEGIN:VEVENT
UID:pretix-test-testevent-0@test.dpsg-freiburg.de
DTSTART;VALUE=DATE:20250929
DTEND;VALUE=DATE:20251001
DESCRIPTION:Tickets: https://test.dpsg-freiburg.de/testevent/\nVeranstalter
 : Testveranstalter
DTSTAMP:20260421T114602Z
SUMMARY:Testevent
END:VEVENT
END:VCALENDAR
